BEGIN:VCALENDAR
VERSION:2.0
PRODID:-//Oproerkraaiers - ECPv6.15.17.1//NONSGML v1.0//EN
CALSCALE:GREGORIAN
METHOD:PUBLISH
X-ORIGINAL-URL:https://oproerkraaiers.nl
X-WR-CALDESC:Evenementen voor Oproerkraaiers
REFRESH-INTERVAL;VALUE=DURATION:PT1H
X-Robots-Tag:noindex
X-PUBLISHED-TTL:PT1H
BEGIN:VTIMEZONE
TZID:Europe/Amsterdam
BEGIN:DAYLIGHT
TZOFFSETFROM:+0100
TZOFFSETTO:+0200
TZNAME:CEST
DTSTART:20230326T010000
END:DAYLIGHT
BEGIN:STANDARD
TZOFFSETFROM:+0200
TZOFFSETTO:+0100
TZNAME:CET
DTSTART:20231029T010000
END:STANDARD
BEGIN:DAYLIGHT
TZOFFSETFROM:+0100
TZOFFSETTO:+0200
TZNAME:CEST
DTSTART:20240331T010000
END:DAYLIGHT
BEGIN:STANDARD
TZOFFSETFROM:+0200
TZOFFSETTO:+0100
TZNAME:CET
DTSTART:20241027T010000
END:STANDARD
BEGIN:DAYLIGHT
TZOFFSETFROM:+0100
TZOFFSETTO:+0200
TZNAME:CEST
DTSTART:20250330T010000
END:DAYLIGHT
BEGIN:STANDARD
TZOFFSETFROM:+0200
TZOFFSETTO:+0100
TZNAME:CET
DTSTART:20251026T010000
END:STANDARD
BEGIN:DAYLIGHT
TZOFFSETFROM:+0100
TZOFFSETTO:+0200
TZNAME:CEST
DTSTART:20260329T010000
END:DAYLIGHT
BEGIN:STANDARD
TZOFFSETFROM:+0200
TZOFFSETTO:+0100
TZNAME:CET
DTSTART:20261025T010000
END:STANDARD
BEGIN:DAYLIGHT
TZOFFSETFROM:+0100
TZOFFSETTO:+0200
TZNAME:CEST
DTSTART:20270328T010000
END:DAYLIGHT
BEGIN:STANDARD
TZOFFSETFROM:+0200
TZOFFSETTO:+0100
TZNAME:CET
DTSTART:20271031T010000
END:STANDARD
END:VTIMEZONE
BEGIN:VTIMEZONE
TZID:Europe/Helsinki
BEGIN:DAYLIGHT
TZOFFSETFROM:+0200
TZOFFSETTO:+0300
TZNAME:EEST
DTSTART:20230326T010000
END:DAYLIGHT
BEGIN:STANDARD
TZOFFSETFROM:+0300
TZOFFSETTO:+0200
TZNAME:EET
DTSTART:20231029T010000
END:STANDARD
BEGIN:DAYLIGHT
TZOFFSETFROM:+0200
TZOFFSETTO:+0300
TZNAME:EEST
DTSTART:20240331T010000
END:DAYLIGHT
BEGIN:STANDARD
TZOFFSETFROM:+0300
TZOFFSETTO:+0200
TZNAME:EET
DTSTART:20241027T010000
END:STANDARD
BEGIN:DAYLIGHT
TZOFFSETFROM:+0200
TZOFFSETTO:+0300
TZNAME:EEST
DTSTART:20250330T010000
END:DAYLIGHT
BEGIN:STANDARD
TZOFFSETFROM:+0300
TZOFFSETTO:+0200
TZNAME:EET
DTSTART:20251026T010000
END:STANDARD
END:VTIMEZONE
BEGIN:VEVENT
DTSTART;TZID=Europe/Amsterdam:20260321T180000
DTEND;TZID=Europe/Amsterdam:20260321T180000
DTSTAMP:20260419T195711
CREATED:20260114T205446Z
LAST-MODIFIED:20260325T200633Z
UID:804-1774116000-1774116000@oproerkraaiers.nl
SUMMARY:GRINDPAD PRESENTS: SHARKFEST II - OPROERKRAAIERS
DESCRIPTION:Grindpad presents: Sharkfest 2! The ultimate Thrash Metal Party!\n\n\nFeaturing:\n@axident_band\n@hallowedfireofficial\n@taskforce_toxicator_metal\nGrindpad\n@oproerkraaiers_band\n\n\n\nSaturday March 21st\, 2026\n\n\nDeur open: 18:00 uurAanvang: 18:45 uurVerwacht einde: 00:00 uur\nLocation: @dbs_utrecht\n\n\n\n\n\n\n\nGet your tickets NOW! Link in Bio\n\n\n\nhttps://dbs.stager.co/shop/default/events/111609049\n\n\n\n \n \n 
URL:https://oproerkraaiers.nl/event/grindpad-presents-sharkfest-ii-oproerkraaiers/
LOCATION:DB’S\, Vlampijpstraat 63\, Utrecht\, 3534 AR\, Netherlands
CATEGORIES:Festivals en evenementen
END:VEVENT
BEGIN:VEVENT
DTSTART;TZID=Europe/Amsterdam:20260221T193000
DTEND;TZID=Europe/Amsterdam:20260221T233000
DTSTAMP:20260419T195711
CREATED:20260114T204509Z
LAST-MODIFIED:20260120T203611Z
UID:800-1771702200-1771716600@oproerkraaiers.nl
SUMMARY:OPROERKRAAIERS - CLASH OF THE TITANS 2026
DESCRIPTION:CLASH OF THE TITANS 2026 – Voorronde 5\nZaterdag 21 februari 2026 @ 7:30 pm – 11:30 pm\ndB’s    Utrecht • Nederland\nhttps://www.dbstudio.nl/event/clash-of-the-titans-2026-voorronde-1-5/\nMeer over CLASH OF THE TITANS 2026 – Voorronde 5 (www.dbstudio.nl)
URL:https://oproerkraaiers.nl/event/oproerkraaiers-clash-of-the-titans-2026/
LOCATION:DB’S\, Vlampijpstraat 63\, Utrecht\, 3534 AR\, Netherlands
CATEGORIES:Festivals en evenementen
END:VEVENT
BEGIN:VEVENT
DTSTART;VALUE=DATE:20251002
DTEND;VALUE=DATE:20251003
DTSTAMP:20260419T195711
CREATED:20250910T202609Z
LAST-MODIFIED:20260323T192400Z
UID:787-1759363200-1759449599@oproerkraaiers.nl
SUMMARY:LEIDENS ONTZET 2025 | LAZARU'S LIVE
DESCRIPTION:Tijdens de festiviteiten rond Leidens Onzet presenteert Rockcafé Lazaru’s weer een lekker en gevarieerd live programma. Hoewel de line-up nog niet volledig rond is\, bieden we bands uit verschillende genres\, traditioneel in de buitentent\, gaan we er weer een feest van maken als nooit te voren. Wees welkom op 2 en 3 oktober en feest met ons mee!\nWat staat er op het programma? 2 oktober trappen wij vroeg in de avond af en op het programma staat o.a. Bayline. Deze band\, ontstaan in 2022\, brengt een portie energieke punk rock. In 2023 verscheen het debuutalbum ‘IChoose Love’\, een geweldige diverse plaat met pakkende hooks en melodieën\, allemaal gecombineerd met vette riffs! Hun catchy\, melodieuze en rauwe nummers zijn de perfecte uitlaatklep om jezelf te laten gaan.\n\nOproerkraaiers Spotify\n\nIn februari dit jaar stond het café vol tijdens de show van Oproerkraaiers en dit was reden genoeg om de band weer vast te leggen voor Leidens Ontzet. Het Utrechtse Oproerkraaiers is oorspronkelijk ontstaan als een duo\, opgericht in 2014 door Sean Maia (Disquiet\, Kamikaze) en Wouter Bisschop (Kamikaze). Het idee was om onzinnige shit met metal deuntjes op te nemen. ‘s Avonds laat zat Sean te brabbelen over meneer van Zeggenburg of Zeggenstein en nu weten we inmiddels hoe die dingen zijn. Inmiddels zijn de Oproerkraaiers uitgegroeid tot een ware band en circuleren er tal van video’s op het internet\, titels als ‘Borrelen’\, ‘Zuipen’\, jouw favoriete drank songs en andere onderwerpen als ‘Pech’ en ‘Fuck the Rain’. De Oproerkraaiers brachten het album ‘Blind Date Deaf Date Your Fate’ en bundelden hiermee hun hilarische krakers. 2 oktober gaan de mannen weer vol gas\, ideaal voor een dansje en natuurlijk een drankje….\n \nFacebook: https://fb.me/e/60Szjnngu \n 
URL:https://oproerkraaiers.nl/event/leidens-ontzet-2025-lazarus-live/
LOCATION:Rockcafé Lazaru’s\, Nieuwe Beestenmarkt 32\, Leiden\, 2312 CH\, Netherlands
CATEGORIES:Festivals en evenementen
END:VEVENT
BEGIN:VEVENT
DTSTART;VALUE=DATE:20250719
DTEND;VALUE=DATE:20250721
DTSTAMP:20260419T195711
CREATED:20250521T191500Z
LAST-MODIFIED:20260120T203503Z
UID:780-1752883200-1753055999@oproerkraaiers.nl
SUMMARY:DB’S OPEN FESTIVAL
DESCRIPTION:Zaterdag 19 en zondag 20 juli 2025\nOproerkraaiers op zaterdag 19 juli 2025 \n \ndB’s\nVlampijpstraat 63\, Utrecht\, Netherlands\ninfo@dbstudio.nl\ndbstudio.nl
URL:https://oproerkraaiers.nl/event/dbs-open-festival/
LOCATION:DB’S\, Vlampijpstraat 63\, Utrecht\, 3534 AR\, Netherlands
CATEGORIES:Festivals en evenementen
END:VEVENT
BEGIN:VEVENT
DTSTART;TZID=Europe/Amsterdam:20250412T204500
DTEND;TZID=Europe/Amsterdam:20250412T204500
DTSTAMP:20260419T195711
CREATED:20250314T170709Z
LAST-MODIFIED:20260120T190128Z
UID:719-1744490700-1744490700@oproerkraaiers.nl
SUMMARY:BEVRIJDINGSFESTIVAL OPROERKRAAIERS
DESCRIPTION:Zaterdag 12 April\nMonierweg 32\n7741 KT\nCoevorden\nWebsite: https://mfcweb.nl\n \n\n        \n            \n                                                \n\n                                        \n                        IMG-20250416-WA0007IMG-20250416-WA0002IMG-20250416-WA0008IMG-20250416-WA0009IMG-20250416-WA0006IMG-20250416-WA0004IMG-20250416-WA0003IMG-20250416-WA0005
URL:https://oproerkraaiers.nl/event/bevrijdingsfestival-oproerkraaiers/
LOCATION:Utrecht
CATEGORIES:Festivals en evenementen
END:VEVENT
BEGIN:VEVENT
DTSTART;VALUE=DATE:20250411
DTEND;VALUE=DATE:20250412
DTSTAMP:20260419T195711
CREATED:20250108T195235Z
LAST-MODIFIED:20260120T203601Z
UID:696-1744329600-1744415999@oproerkraaiers.nl
SUMMARY:NEUK! + OPROERKRAAIERS
DESCRIPTION:Vrijdag 11 april om 20:00 uur\ndB’s\nVlampijpstraat 63\, Utrecht\, Netherlands\n\nDit eventje had je nog tegoed. Tickets zijn inmiddels al in de verkoop en gaan als altijd hard.\nKort verkooppraatje:\nJe kan er maar beter snel bij zijn. De legendarische nederhophardcorebende NEUK! komt ook de nieuwe dB’s aan flarden spelen.\nVerwacht weer een klassieke chaos met hits van Dopeheid Troef\, Tot de Schijt ons Doodt\, Het Nadeel van de Twijfel en Bloedend Hard en put yr moshing shoes on. Wil je weer bij zijn want anders heb je het gemist.\nVoorkomen is beter dan achterkomen.\nNaar de tyfus dan maar weer. Maar dan niet alleen want ook Oproerkraaiers sieren dit affiche met hun mix van hardcore\, nu metal en metalcore en zalige no nonsense mee-brul refreinen.\nHarde avond\, dacht het wel!\n \nFacebook: https://fb.me/e/5FsHkkCpA
URL:https://oproerkraaiers.nl/event/neuk-oproerkraaiers/
LOCATION:DB’S\, Vlampijpstraat 63\, Utrecht\, 3534 AR\, Netherlands
CATEGORIES:Festivals en evenementen
END:VEVENT
BEGIN:VEVENT
DTSTART;VALUE=DATE:20250222
DTEND;VALUE=DATE:20250223
DTSTAMP:20260419T195711
CREATED:20250108T195726Z
LAST-MODIFIED:20260120T203534Z
UID:698-1740182400-1740268799@oproerkraaiers.nl
SUMMARY:HELP A PUNK GET DRUNK
DESCRIPTION:Zaterdag 22 februari om 20:00 uur\nKarel Doormanlaan 2A\, 2712 JJ Zoetermeer\, Nederland\n\nDeze avond zetten wij weer 3 super energieke bands op het podium!!! Met rauw gitaarwerk\, harde drums en stevige politieke statements blazen ze jou omver. Kom ff die moshpit gooien waar je al zo lang op wacht.\n22 Februari om 20:00 \nTickets verkrijgbaar via: https://mevrouwlatenstaan.eventgoose.com/\n– Betonblok\n– Røyking\n– Oproerkraaiers\nFacebook: https://fb.me/e/65Z58kz2g
URL:https://oproerkraaiers.nl/event/help-a-punk-get-drunk/
LOCATION:Latenstaan Zoetermeer\, Karel Doormanlaan 2a\, Zoetermeer\, 2712 JJ\, Netherlands
CATEGORIES:Festivals en evenementen
END:VEVENT
BEGIN:VEVENT
DTSTART;TZID=Europe/Amsterdam:20250110T200000
DTEND;TZID=Europe/Amsterdam:20250111T010000
DTSTAMP:20260419T195711
CREATED:20250108T192648Z
LAST-MODIFIED:20260120T203519Z
UID:680-1736539200-1736557200@oproerkraaiers.nl
SUMMARY:PUNK VAN DE BOUWMARKT: DE STOEPTEGELS + BETONBLOK + OPROERKRAAIERS + DJ DUIMSTOK - POPPODIUM PHOENIX BREDA
DESCRIPTION:Vrijdag 10 januari om 20:00 uur\nPoppodium Phoenix Breda\nBelcrumweg 58\, 4815 HA Breda\, Nederland \n \nLeg maar vast een zeiltje weg\, want op 10 januari komt het stuc van de muren tijdens PUNK VAN DE BOUWMARKT. Niks geen ruimte voor opbouwende kritiek. De Stoeptegels\, Betonblok\, Oproerkraaiers en DJ Duimstok hanteren een strikt afbraakbeleid! Dus hup\, kom uit die muffe schaftkeet en haal die kaarten\, voordat je de plank misslaat.\n𝐋𝐢𝐧𝐞-𝐮𝐩: De Stoeptegels\, Betonblok\, Oproerkraaiers & DJ Duimstok! \nEEN VERBOUWING IN HET PROGRAMMA!\nHelaas kan de Baksteen niet op tijd geleverd worden\, daarom komen 𝐃𝐞 𝐎𝐩𝐫𝐨𝐞𝐫𝐤𝐫𝐚𝐚𝐢𝐞𝐫𝐬 de boel afbreken!\nOproerkraaiers\nVerwacht partymetal met onzinnige teksten over alledaagse dingen\, zoals de lente of verschillende woorden voor zuipen. De muziek is een mix van hardcore\, nu metal en metalcore. De teksten zijn een mix van gemengde gevoelens. Met leden van Disquiet en ex-leden van Kamikaze.\nSamen met 𝑫𝒆 𝑺𝒕𝒐𝒆𝒑𝒕𝒆𝒈𝒆𝒍𝒔\, 𝑩𝒆𝒕𝒐𝒏𝒃𝒍𝒐𝒌 & 𝑫𝑱 𝑫𝒖𝒊𝒎𝒔𝒕𝒐𝒌 belooft dit een steengoede avond te worden. Trek je veiligheidshesje en bouwhelm maar uit te kast en haal die kaarten\, voordat je de plank misslaat. Facebook: https://fb.me/e/aZmgVjCwv
URL:https://oproerkraaiers.nl/event/punk-van-de-bouwmarkt-de-stoeptegels-betonblok-oproerkraaiers-dj-duimstok-poppodium-phoenix-breda/
LOCATION:Poppodium Phoenix\, Breda Belcrumweg 58\, Breda\, 4815 HA\, Netherlands
CATEGORIES:Festivals en evenementen
END:VEVENT
BEGIN:VEVENT
DTSTART;TZID=Europe/Amsterdam:20241012T200000
DTEND;TZID=Europe/Amsterdam:20241012T200000
DTSTAMP:20260419T195711
CREATED:20240821T183844Z
LAST-MODIFIED:20260120T190334Z
UID:570-1728763200-1728763200@oproerkraaiers.nl
SUMMARY:OPROERKRAAIERS CLUB HELL
DESCRIPTION:Zaterdag 12 oktober 2024 om 20:00 uur\nNijverheidslaan 7 3290 Diest\, België\n\nFREE ENTRANCE SHOW!\nVirus Inhumanity gets the help of Oproerkraaiers AND TerraDown to demolish Hell once again.\nhttps://www.facebook.com/events/s/demolishing-hell-again/892375306071689
URL:https://oproerkraaiers.nl/event/club-hell-oproerkraaiers/
LOCATION:Club Hell\, Nijverheidslaan 7\, Diest\, 3290\, België
CATEGORIES:Festivals en evenementen
END:VEVENT
BEGIN:VEVENT
DTSTART;TZID=Europe/Amsterdam:20240907T210000
DTEND;TZID=Europe/Amsterdam:20240907T210000
DTSTAMP:20260419T195711
CREATED:20240821T181718Z
LAST-MODIFIED:20260120T203829Z
UID:559-1725742800-1725742800@oproerkraaiers.nl
SUMMARY:OPROERKRAAIERS+ STRANDED
DESCRIPTION:Partymetal + Punk/hardcore\nOproerkraaiers staat voor een mix van hardcore\, nu metal en metalcore en zalige no nonsense mee-brul refreinen. Stranded serves its harcore fast\, short\, violent and thrashing since 2010.\n\n\nZaterdag 7 september 2024\nZaal open: 21:00 uur\nAanvang: 21:00 uur\nDeur sluit: 00:00 uur \nMeer info:\nhttps://www.facebook.com/Strandedhardcore\nhttps://strandedhardcore.bandcamp.com/music\nFacebook event: https://fb.me/e/5wUt4yM1q
URL:https://oproerkraaiers.nl/event/oproerkraaiers-stranded/
LOCATION:De Gonz\, Turfsingel 36\, Gouda\, 2802 BC\, Nederland
CATEGORIES:Festivals en evenementen
END:VEVENT
BEGIN:VEVENT
DTSTART;TZID=Europe/Helsinki:20240706T170000
DTEND;TZID=Europe/Helsinki:20240706T184500
DTSTAMP:20260419T195711
CREATED:20240608T145036Z
LAST-MODIFIED:20240612T170926Z
UID:96-1720285200-1720291500@oproerkraaiers.nl
SUMMARY:WILLEMS WONDERE WEILAND
DESCRIPTION:Aanvang optreden Oproerkraaiers: 17.00 uur \nOproerkraaiers bestond lange tijd enkel uit Wouter Bisschop (ex-Kamikaze) en Sean Maia (Disquiet en ex-Kamikaze)\, die onzinnige metaldeuntjes met videoclips uitbrachten op Youtube. In 2023 hebben ze hun eerste album opgenomen en is de band aangevuld met muzikanten om live te knallen. Met nummers als Zuipen\, Borrelen en Van Zeggenstein maakt de band er feestje van. Denk aan beukende metal deuntjes met belachelijke teksten over alledaagse dingen zoals het weer of dat het bijvoorbeeld fijn is als de lente is aangebroken. Het beste is de muziek te omschrijven als feestmetal.  \nBron: Willems Wonderen Weiland (Facebook)
URL:https://oproerkraaiers.nl/event/willems-wondere-weiland/
LOCATION:Hooglanderveen\, Palestinaweg Oost 2\, Hooglanderveen\, 3829 NC\, Nederland
CATEGORIES:Festivals en evenementen
END:VEVENT
BEGIN:VEVENT
DTSTART;VALUE=DATE:20240406
DTEND;VALUE=DATE:20240407
DTSTAMP:20260419T195711
CREATED:20240608T145922Z
LAST-MODIFIED:20250420T180953Z
UID:104-1712361600-1712447999@oproerkraaiers.nl
SUMMARY:HAAIFEST
DESCRIPTION:Zin in een muzikaal feestje ? \nZet 6 april 2024 in jullie agenda om deze fantastische bands te komen bekijken in het Buurthuis in Veerle Heide.\n\nTijdstip optreden Oproerkraaiers: 19.30 uur.\n\nCheck ons ook op Instagram https://www.instagram.com/haaifest6/\nDelen is lief\, aanwezig zijn helemaal te gek #haaifest#musicaltank#\n\n\n        \n            \n                                                \n\n                                        \n                        nieuw3439839291_1503009617066291_195919940518093377_n440197102_1503008950399691_6107906749242913523_n440108702_1503011777066075_1639932635282342820_n439928568_1503010117066241_6546226292287887264_nnieuw1
URL:https://oproerkraaiers.nl/event/haaifest/
LOCATION:Laakdal\, Zandstraat 13\, Laakdal\, 2431\, België
CATEGORIES:Festivals en evenementen
END:VEVENT
END:VCALENDAR